BEGIN:VCALENDAR
VERSION:2.0
PRODID:-//Grabfeld-Grundschule - ECPv6.15.20//NONSGML v1.0//EN
CALSCALE:GREGORIAN
METHOD:PUBLISH
X-WR-CALNAME:Grabfeld-Grundschule
X-ORIGINAL-URL:https://www.ggskoen.de
X-WR-CALDESC:Veranstaltungen für Grabfeld-Grundschule
REFRESH-INTERVAL;VALUE=DURATION:PT1H
X-Robots-Tag:noindex
X-PUBLISHED-TTL:PT1H
BEGIN:VTIMEZONE
TZID:Europe/Berlin
BEGIN:DAYLIGHT
TZOFFSETFROM:+0100
TZOFFSETTO:+0200
TZNAME:CEST
DTSTART:20250330T010000
END:DAYLIGHT
BEGIN:STANDARD
TZOFFSETFROM:+0200
TZOFFSETTO:+0100
TZNAME:CET
DTSTART:20251026T010000
END:STANDARD
BEGIN:DAYLIGHT
TZOFFSETFROM:+0100
TZOFFSETTO:+0200
TZNAME:CEST
DTSTART:20260329T010000
END:DAYLIGHT
BEGIN:STANDARD
TZOFFSETFROM:+0200
TZOFFSETTO:+0100
TZNAME:CET
DTSTART:20261025T010000
END:STANDARD
BEGIN:DAYLIGHT
TZOFFSETFROM:+0100
TZOFFSETTO:+0200
TZNAME:CEST
DTSTART:20270328T010000
END:DAYLIGHT
BEGIN:STANDARD
TZOFFSETFROM:+0200
TZOFFSETTO:+0100
TZNAME:CET
DTSTART:20271031T010000
END:STANDARD
END:VTIMEZONE
BEGIN:VEVENT
DTSTART;VALUE=DATE:20260508
DTEND;VALUE=DATE:20260509
DTSTAMP:20260420T155445
CREATED:20260318T125636Z
LAST-MODIFIED:20260318T125636Z
UID:1080-1778198400-1778284799@www.ggskoen.de
SUMMARY:Welttag des Buches
DESCRIPTION:4. Klassen lesen vor
URL:https://www.ggskoen.de/index.php/event/welttag-des-buches/
END:VEVENT
BEGIN:VEVENT
DTSTART;VALUE=DATE:20260520
DTEND;VALUE=DATE:20260521
DTSTAMP:20260420T155445
CREATED:20260317T174256Z
LAST-MODIFIED:20260317T174256Z
UID:1070-1779235200-1779321599@www.ggskoen.de
SUMMARY:Ballhelden
DESCRIPTION:
URL:https://www.ggskoen.de/index.php/event/ballhelden/
END:VEVENT
BEGIN:VEVENT
DTSTART;VALUE=DATE:20260617
DTEND;VALUE=DATE:20260618
DTSTAMP:20260420T155445
CREATED:20260317T174430Z
LAST-MODIFIED:20260317T174430Z
UID:1072-1781654400-1781740799@www.ggskoen.de
SUMMARY:Bundesjugendspiele
DESCRIPTION:
URL:https://www.ggskoen.de/index.php/event/bundesjugendspiele/
END:VEVENT
BEGIN:VEVENT
DTSTART;VALUE=DATE:20260618
DTEND;VALUE=DATE:20260619
DTSTAMP:20260420T155445
CREATED:20260317T174708Z
LAST-MODIFIED:20260318T102546Z
UID:1074-1781740800-1781827199@www.ggskoen.de
SUMMARY:Fußballturnier Vorrunde
DESCRIPTION:Die Veranstaltung findet am Nachmittag statt.
URL:https://www.ggskoen.de/index.php/event/fussballturnier-vorrunde/
END:VEVENT
BEGIN:VEVENT
DTSTART;VALUE=DATE:20260625
DTEND;VALUE=DATE:20260626
DTSTAMP:20260420T155445
CREATED:20260318T125756Z
LAST-MODIFIED:20260318T125756Z
UID:1082-1782345600-1782431999@www.ggskoen.de
SUMMARY:Schulbesuch der Vorschulkinder in den ersten und zweiten Klassen
DESCRIPTION:
URL:https://www.ggskoen.de/index.php/event/schulbesuch-der-vorschulkinder-in-den-ersten-und-zweiten-klassen/
END:VEVENT
BEGIN:VEVENT
DTSTART;TZID=Europe/Berlin:20260709T180000
DTEND;TZID=Europe/Berlin:20260709T180000
DTSTAMP:20260420T155445
CREATED:20260318T125943Z
LAST-MODIFIED:20260318T130336Z
UID:1086-1783620000-1783620000@www.ggskoen.de
SUMMARY:Elternabend neue Erstklässer
DESCRIPTION:
URL:https://www.ggskoen.de/index.php/event/elternabend-neue-erstklaesser/
END:VEVENT
BEGIN:VEVENT
DTSTART;TZID=Europe/Berlin:20260710T080000
DTEND;TZID=Europe/Berlin:20260710T170000
DTSTAMP:20260420T155445
CREATED:20260318T125835Z
LAST-MODIFIED:20260318T125835Z
UID:1084-1783670400-1783702800@www.ggskoen.de
SUMMARY:Theater Maßbach
DESCRIPTION:
URL:https://www.ggskoen.de/index.php/event/theater-massbach/
END:VEVENT
BEGIN:VEVENT
DTSTART;VALUE=DATE:20260729
DTEND;VALUE=DATE:20260730
DTSTAMP:20260420T155445
CREATED:20260318T130013Z
LAST-MODIFIED:20260318T130013Z
UID:1088-1785283200-1785369599@www.ggskoen.de
SUMMARY:Gottesdienst
DESCRIPTION:
URL:https://www.ggskoen.de/index.php/event/gottesdienst-2/
END:VEVENT
BEGIN:VEVENT
DTSTART;TZID=Europe/Berlin:20260915T080000
DTEND;TZID=Europe/Berlin:20260915T170000
DTSTAMP:20260420T155445
CREATED:20260318T130128Z
LAST-MODIFIED:20260318T130128Z
UID:1090-1789459200-1789491600@www.ggskoen.de
SUMMARY:Einschulung mit Anfangsgottesdienst
DESCRIPTION:
URL:https://www.ggskoen.de/index.php/event/einschulung-mit-anfangsgottesdienst/
END:VEVENT
END:VCALENDAR